BEGIN:VCALENDAR
VERSION:2.0
PRODID:icalendar-ruby
CALSCALE:GREGORIAN
METHOD:PUBLISH
BEGIN:VEVENT
DTSTAMP:20260420T164037Z
UID:22-279881@fgccpj.com
DTSTART:20260420T160000Z
DTEND:20260426T040000Z
CLASS:PUBLIC
CREATED:20260420T052850
DESCRIPTION:
LAST-MODIFIED:20260420T052850
LOCATION:415 Old Town Road 
SUMMARY:America Reads the Bible 
URL;VALUE=URI:https://www.fgccpj.com/events/america-reads-the-bible/2026-04
 -20
ATTACH;FILENAME=IMG_4071.jpg;FMTTYPE=image/jpeg:https://dq5pwpg1q8ru0.cloud
 front.net/2026/04/20/12/28/50/23ae3dd4-fa1a-4b6e-bef1-b9593c3509a6/IMG_407
 1.jpg
END:VEVENT
END:VCALENDAR
