BEGIN:VCALENDAR
VERSION:2.0
PRODID:icalendar-ruby
CALSCALE:GREGORIAN
METHOD:PUBLISH
BEGIN:VEVENT
DTSTAMP:20260420T152416Z
UID:21-279880@fgccpj.com
DTSTART:20260422T020000Z
DTEND:20260422T040000Z
CLASS:PUBLIC
CREATED:20260420T052320
DESCRIPTION:
LAST-MODIFIED:20260420T052320
LOCATION:415 Old Town Road 
SUMMARY:Young Adults Night
URL;VALUE=URI:https://www.fgccpj.com/events/young-adults-night--21/2026-04-
 21
ATTACH;FILENAME=Untitled-design-15.png;FMTTYPE=image/png:https://dq5pwpg1q8
 ru0.cloudfront.net/2026/04/20/12/22/45/41491a38-3be3-4525-a8d5-0ac3e6ef0e5
 a/Untitled-design-15.png
END:VEVENT
END:VCALENDAR
